BEGIN:VCALENDAR
VERSION:2.0
PRODID:-//USC Global Supply Chain Management Institute - ECPv6.15.20//NONSGML v1.0//EN
CALSCALE:GREGORIAN
METHOD:PUBLISH
X-ORIGINAL-URL:https://uscsupplychain.com
X-WR-CALDESC:Events for USC Global Supply Chain Management Institute
REFRESH-INTERVAL;VALUE=DURATION:PT1H
X-Robots-Tag:noindex
X-PUBLISHED-TTL:PT1H
BEGIN:VTIMEZONE
TZID:UTC
BEGIN:STANDARD
TZOFFSETFROM:+0000
TZOFFSETTO:+0000
TZNAME:UTC
DTSTART:20200101T000000
END:STANDARD
END:VTIMEZONE
BEGIN:VEVENT
DTSTART;VALUE=DATE:20210505
DTEND;VALUE=DATE:20210506
DTSTAMP:20260419T185640
CREATED:20201129T183231Z
LAST-MODIFIED:20201129T183231Z
UID:11868-1620172800-1620259199@uscsupplychain.com
SUMMARY:Certification (Source\, CSR\, SUS)
DESCRIPTION:
URL:https://uscsupplychain.com/event/certification-source-csr-sus/
END:VEVENT
BEGIN:VEVENT
DTSTART;VALUE=DATE:20210519
DTEND;VALUE=DATE:20210520
DTSTAMP:20260419T185640
CREATED:20201129T183313Z
LAST-MODIFIED:20201129T183313Z
UID:11870-1621382400-1621468799@uscsupplychain.com
SUMMARY:Summer Begins
DESCRIPTION:
URL:https://uscsupplychain.com/event/summer-begins/
END:VEVENT
BEGIN:VEVENT
DTSTART;VALUE=DATE:20210524
DTEND;VALUE=DATE:20210525
DTSTAMP:20260419T185640
CREATED:20201129T183352Z
LAST-MODIFIED:20201129T183352Z
UID:11872-1621814400-1621900799@uscsupplychain.com
SUMMARY:Mexico Symposium
DESCRIPTION:
URL:https://uscsupplychain.com/event/mexico-symposium-2/
END:VEVENT
BEGIN:VEVENT
DTSTART;VALUE=DATE:20210525
DTEND;VALUE=DATE:20210526
DTSTAMP:20260419T185640
CREATED:20201129T183444Z
LAST-MODIFIED:20201129T183444Z
UID:11874-1621900800-1621987199@uscsupplychain.com
SUMMARY:Certification  Starts (Black Belt)
DESCRIPTION:
URL:https://uscsupplychain.com/event/certification-starts-black-belt/
END:VEVENT
END:VCALENDAR