BEGIN:VCALENDAR
VERSION:2.0
PRODID:-//USC Global Supply Chain Management Institute - ECPv6.15.20//NONSGML v1.0//EN
CALSCALE:GREGORIAN
METHOD:PUBLISH
X-WR-CALNAME:USC Global Supply Chain Management Institute
X-ORIGINAL-URL:https://uscsupplychain.com
X-WR-CALDESC:Events for USC Global Supply Chain Management Institute
REFRESH-INTERVAL;VALUE=DURATION:PT1H
X-Robots-Tag:noindex
X-PUBLISHED-TTL:PT1H
BEGIN:VTIMEZONE
TZID:America/Los_Angeles
BEGIN:DAYLIGHT
TZOFFSETFROM:-0800
TZOFFSETTO:-0700
TZNAME:PDT
DTSTART:20190310T100000
END:DAYLIGHT
BEGIN:STANDARD
TZOFFSETFROM:-0700
TZOFFSETTO:-0800
TZNAME:PST
DTSTART:20191103T090000
END:STANDARD
BEGIN:DAYLIGHT
TZOFFSETFROM:-0800
TZOFFSETTO:-0700
TZNAME:PDT
DTSTART:20200308T100000
END:DAYLIGHT
BEGIN:STANDARD
TZOFFSETFROM:-0700
TZOFFSETTO:-0800
TZNAME:PST
DTSTART:20201101T090000
END:STANDARD
BEGIN:DAYLIGHT
TZOFFSETFROM:-0800
TZOFFSETTO:-0700
TZNAME:PDT
DTSTART:20210314T100000
END:DAYLIGHT
BEGIN:STANDARD
TZOFFSETFROM:-0700
TZOFFSETTO:-0800
TZNAME:PST
DTSTART:20211107T090000
END:STANDARD
END:VTIMEZONE
BEGIN:VEVENT
DTSTART;TZID=America/Los_Angeles:20200627T080000
DTEND;TZID=America/Los_Angeles:20201024T170000
DTSTAMP:20260420T142814
CREATED:20190619T113113Z
LAST-MODIFIED:20201129T181527Z
UID:6203-1593244800-1603558800@uscsupplychain.com
SUMMARY:Online Lean Six Sigma Black Belt Course
DESCRIPTION:
URL:https://uscsupplychain.com/event/online-lean-six-sigma-black-belt-course/
END:VEVENT
BEGIN:VEVENT
DTSTART;VALUE=DATE:20200930
DTEND;VALUE=DATE:20201001
DTSTAMP:20260420T142814
CREATED:20200407T122234Z
LAST-MODIFIED:20200407T122234Z
UID:9426-1601424000-1601510399@uscsupplychain.com
SUMMARY:Design Innovation
DESCRIPTION:Event Registration Link will be updated soon.
URL:https://uscsupplychain.com/event/design-innovation/
END:VEVENT
BEGIN:VEVENT
DTSTART;TZID=America/Los_Angeles:20201021T080000
DTEND;TZID=America/Los_Angeles:20201022T170000
DTSTAMP:20260420T142814
CREATED:20200407T122317Z
LAST-MODIFIED:20200407T122317Z
UID:9428-1603267200-1603386000@uscsupplychain.com
SUMMARY:Lean Services
DESCRIPTION:Event registration link will be updated soon.
URL:https://uscsupplychain.com/event/lean-services/
END:VEVENT
END:VCALENDAR