BEGIN:VCALENDAR
VERSION:2.0
PRODID:-//USC Global Supply Chain Management Institute - ECPv6.15.20//NONSGML v1.0//EN
CALSCALE:GREGORIAN
METHOD:PUBLISH
X-ORIGINAL-URL:https://uscsupplychain.com
X-WR-CALDESC:Events for USC Global Supply Chain Management Institute
REFRESH-INTERVAL;VALUE=DURATION:PT1H
X-Robots-Tag:noindex
X-PUBLISHED-TTL:PT1H
BEGIN:VTIMEZONE
TZID:UTC
BEGIN:STANDARD
TZOFFSETFROM:+0000
TZOFFSETTO:+0000
TZNAME:UTC
DTSTART:20200101T000000
END:STANDARD
END:VTIMEZONE
BEGIN:VEVENT
DTSTART;VALUE=DATE:20210712
DTEND;VALUE=DATE:20210713
DTSTAMP:20260420T190009
CREATED:20201129T183703Z
LAST-MODIFIED:20201129T183703Z
UID:11880-1626048000-1626134399@uscsupplychain.com
SUMMARY:India Symposium
DESCRIPTION:
URL:https://uscsupplychain.com/event/india-symposium-2/
END:VEVENT
BEGIN:VEVENT
DTSTART;VALUE=DATE:20210715
DTEND;VALUE=DATE:20210716
DTSTAMP:20260420T190009
CREATED:20201129T183742Z
LAST-MODIFIED:20201129T183742Z
UID:11882-1626307200-1626393599@uscsupplychain.com
SUMMARY:Final Application Deadline
DESCRIPTION:
URL:https://uscsupplychain.com/event/final-application-deadline/
END:VEVENT
BEGIN:VEVENT
DTSTART;VALUE=DATE:20210801
DTEND;VALUE=DATE:20210807
DTSTAMP:20260420T190009
CREATED:20201129T183835Z
LAST-MODIFIED:20201129T183835Z
UID:11884-1627776000-1628294399@uscsupplychain.com
SUMMARY:C9 Orientation
DESCRIPTION:
URL:https://uscsupplychain.com/event/c9-orientation/
END:VEVENT
BEGIN:VEVENT
DTSTART;VALUE=DATE:20210803
DTEND;VALUE=DATE:20210804
DTSTAMP:20260420T190009
CREATED:20201129T183932Z
LAST-MODIFIED:20201129T183932Z
UID:11886-1627948800-1628035199@uscsupplychain.com
SUMMARY:Board Meeting
DESCRIPTION:
URL:https://uscsupplychain.com/event/board-meeting-3/
END:VEVENT
BEGIN:VEVENT
DTSTART;VALUE=DATE:20210804
DTEND;VALUE=DATE:20210806
DTSTAMP:20260420T190009
CREATED:20201129T184041Z
LAST-MODIFIED:20201129T184041Z
UID:11888-1628035200-1628207999@uscsupplychain.com
SUMMARY:SC Summit / VIP Rec / INC
DESCRIPTION:
URL:https://uscsupplychain.com/event/sc-summit-vip-rec-inc/
END:VEVENT
BEGIN:VEVENT
DTSTART;VALUE=DATE:20210823
DTEND;VALUE=DATE:20210824
DTSTAMP:20260420T190009
CREATED:20201129T184132Z
LAST-MODIFIED:20201129T184132Z
UID:11890-1629676800-1629763199@uscsupplychain.com
SUMMARY:Fall Semester Starts
DESCRIPTION:
URL:https://uscsupplychain.com/event/fall-semester-starts/
END:VEVENT
BEGIN:VEVENT
DTSTART;VALUE=DATE:20210914
DTEND;VALUE=DATE:20210915
DTSTAMP:20260420T190009
CREATED:20201129T184933Z
LAST-MODIFIED:20201129T184933Z
UID:11906-1631577600-1631663999@uscsupplychain.com
SUMMARY:Certification Starts (Emerging Technology in Supply Chain)
DESCRIPTION:
URL:https://uscsupplychain.com/event/certification-starts-emerging-technology-in-supply-chain/
END:VEVENT
BEGIN:VEVENT
DTSTART;VALUE=DATE:20211005
DTEND;VALUE=DATE:20211006
DTSTAMP:20260420T190009
CREATED:20201129T184817Z
LAST-MODIFIED:20201129T184817Z
UID:11904-1633392000-1633478399@uscsupplychain.com
SUMMARY:Certification Starts (Lean Six Sigma)
DESCRIPTION:
URL:https://uscsupplychain.com/event/certification-starts-lean-six-sigma/
END:VEVENT
BEGIN:VEVENT
DTSTART;VALUE=DATE:20211103
DTEND;VALUE=DATE:20211104
DTSTAMP:20260420T190009
CREATED:20201129T184307Z
LAST-MODIFIED:20201129T184307Z
UID:11892-1635897600-1635983999@uscsupplychain.com
SUMMARY:Certification Starts (Green Belt)
DESCRIPTION:
URL:https://uscsupplychain.com/event/certification-starts-green-belt-3/
END:VEVENT
BEGIN:VEVENT
DTSTART;VALUE=DATE:20211115
DTEND;VALUE=DATE:20211120
DTSTAMP:20260420T190009
CREATED:20201129T184351Z
LAST-MODIFIED:20201129T184351Z
UID:11894-1636934400-1637366399@uscsupplychain.com
SUMMARY:LA Exp. Week
DESCRIPTION:
URL:https://uscsupplychain.com/event/la-exp-week/
END:VEVENT
BEGIN:VEVENT
DTSTART;VALUE=DATE:20211119
DTEND;VALUE=DATE:20211120
DTSTAMP:20260420T190009
CREATED:20201129T184421Z
LAST-MODIFIED:20201129T184421Z
UID:11896-1637280000-1637366399@uscsupplychain.com
SUMMARY:C8 Commencement
DESCRIPTION:
URL:https://uscsupplychain.com/event/c8-commencement/
END:VEVENT
BEGIN:VEVENT
DTSTART;VALUE=DATE:20211130
DTEND;VALUE=DATE:20211201
DTSTAMP:20260420T190009
CREATED:20201129T184529Z
LAST-MODIFIED:20201129T184529Z
UID:11898-1638230400-1638316799@uscsupplychain.com
SUMMARY:Taiwan Symposium
DESCRIPTION:
URL:https://uscsupplychain.com/event/taiwan-symposium/
END:VEVENT
BEGIN:VEVENT
DTSTART;VALUE=DATE:20211201
DTEND;VALUE=DATE:20211202
DTSTAMP:20260420T190009
CREATED:20201129T184610Z
LAST-MODIFIED:20201129T184610Z
UID:11900-1638316800-1638403199@uscsupplychain.com
SUMMARY:Philippines Symposium
DESCRIPTION:
URL:https://uscsupplychain.com/event/philippines-symposium/
END:VEVENT
BEGIN:VEVENT
DTSTART;VALUE=DATE:20211205
DTEND;VALUE=DATE:20211213
DTSTAMP:20260420T190009
CREATED:20201129T184651Z
LAST-MODIFIED:20201129T184651Z
UID:11902-1638662400-1639353599@uscsupplychain.com
SUMMARY:Singapore Experiential Trip
DESCRIPTION:
URL:https://uscsupplychain.com/event/singapore-experiential-trip/
END:VEVENT
END:VCALENDAR