BEGIN:VCALENDAR
VERSION:2.0
PRODID:-//USC Global Supply Chain Management Institute - ECPv6.15.20//NONSGML v1.0//EN
CALSCALE:GREGORIAN
METHOD:PUBLISH
X-WR-CALNAME:USC Global Supply Chain Management Institute
X-ORIGINAL-URL:https://uscsupplychain.com
X-WR-CALDESC:Events for USC Global Supply Chain Management Institute
REFRESH-INTERVAL;VALUE=DURATION:PT1H
X-Robots-Tag:noindex
X-PUBLISHED-TTL:PT1H
BEGIN:VTIMEZONE
TZID:UTC
BEGIN:STANDARD
TZOFFSETFROM:+0000
TZOFFSETTO:+0000
TZNAME:UTC
DTSTART:20200101T000000
END:STANDARD
END:VTIMEZONE
BEGIN:VEVENT
DTSTART;VALUE=DATE:20210304
DTEND;VALUE=DATE:20210306
DTSTAMP:20260420T082245
CREATED:20201215T032704Z
LAST-MODIFIED:20201215T032704Z
UID:11934-1614816000-1614988799@uscsupplychain.com
SUMMARY:Supply Chain Director Meeting
DESCRIPTION:
URL:https://uscsupplychain.com/event/supply-chain-director-meeting/
END:VEVENT
END:VCALENDAR